Package: phenoTest Version: 1.48.0 Command: /home/biocbuild/bbs-3.17-bioc/R/bin/R CMD INSTALL phenoTest StartedAt: 2023-10-15 15:35:37 -0400 (Sun, 15 Oct 2023) EndedAt: 2023-10-15 15:36:10 -0400 (Sun, 15 Oct 2023) EllapsedTime: 33.3 seconds RetCode: 0 Status: OK