Package: phenoTest Version: 1.48.0 Command: chmod a+r phenoTest -R && F:\biocbuild\bbs-3.17-bioc\R\bin\R.exe CMD build --keep-empty-dirs --no-resave-data phenoTest StartedAt: 2023-10-15 21:19:51 -0400 (Sun, 15 Oct 2023) EndedAt: 2023-10-15 21:21:18 -0400 (Sun, 15 Oct 2023) EllapsedTime: 86.3 seconds RetCode: 0 Status: OK PackageFile: phenoTest_1.48.0.tar.gz PackageFileSize: 1.099 MiB