Package: phenoTest Version: 1.48.0 Command: F:\biocbuild\bbs-3.17-bioc\R\bin\R.exe CMD check --no-multiarch --install=check:phenoTest.install-out.txt --library=F:\biocbuild\bbs-3.17-bioc\R\library --no-vignettes --timings phenoTest_1.48.0.tar.gz StartedAt: 2023-10-16 05:15:45 -0400 (Mon, 16 Oct 2023) EndedAt: 2023-10-16 05:19:31 -0400 (Mon, 16 Oct 2023) EllapsedTime: 225.6 seconds RetCode: 0 Status: WARNINGS CheckDir: phenoTest.Rcheck Warnings: 1