Package: phenoTest Version: 1.48.0 Command: F:\biocbuild\bbs-3.17-bioc\R\bin\R.exe CMD INSTALL phenoTest StartedAt: 2023-10-15 16:39:35 -0400 (Sun, 15 Oct 2023) EndedAt: 2023-10-15 16:40:23 -0400 (Sun, 15 Oct 2023) EllapsedTime: 47.9 seconds RetCode: 0 Status: OK