Package: pickgene Version: 1.72.0 Command: /Library/Frameworks/R.framework/Resources/bin/R CMD check --install=check:pickgene.install-out.txt --library=/Library/Frameworks/R.framework/Resources/library --no-vignettes --timings pickgene_1.72.0.tar.gz StartedAt: 2023-10-16 05:17:37 -0400 (Mon, 16 Oct 2023) EndedAt: 2023-10-16 05:18:32 -0400 (Mon, 16 Oct 2023) EllapsedTime: 54.7 seconds RetCode: 0 Status: WARNINGS CheckDir: pickgene.Rcheck Warnings: 1