Package: planet Version: 1.8.0 Command: /Library/Frameworks/R.framework/Resources/bin/R CMD check --install=check:planet.install-out.txt --library=/Library/Frameworks/R.framework/Resources/library --no-vignettes --timings planet_1.8.0.tar.gz StartedAt: 2023-10-16 05:18:32 -0400 (Mon, 16 Oct 2023) EndedAt: 2023-10-16 05:19:55 -0400 (Mon, 16 Oct 2023) EllapsedTime: 83.1 seconds RetCode: 0 Status: OK CheckDir: planet.Rcheck Warnings: 0