Package: planet Version: 1.8.0 Command: rm -rf planet.buildbin-libdir && mkdir planet.buildbin-libdir && F:\biocbuild\bbs-3.17-bioc\R\bin\R.exe CMD INSTALL --build --library=planet.buildbin-libdir planet_1.8.0.tar.gz StartedAt: 2023-10-16 09:16:16 -0400 (Mon, 16 Oct 2023) EndedAt: 2023-10-16 09:16:23 -0400 (Mon, 16 Oct 2023) EllapsedTime: 7.0 seconds RetCode: 0 Status: OK PackageFile: planet_1.8.0.zip PackageFileSize: 2.722 MiB