Package: planttfhunter Version: 1.0.0 Command: /Library/Frameworks/R.framework/Resources/bin/R CMD build --keep-empty-dirs --no-resave-data planttfhunter StartedAt: 2023-10-15 20:18:46 -0400 (Sun, 15 Oct 2023) EndedAt: 2023-10-15 20:20:32 -0400 (Sun, 15 Oct 2023) EllapsedTime: 105.7 seconds RetCode: 0 Status: OK PackageFile: planttfhunter_1.0.0.tar.gz PackageFileSize: 991.5 KiB