Package: planttfhunter Version: 1.0.0 Command: /Library/Frameworks/R.framework/Resources/bin/R CMD INSTALL planttfhunter StartedAt: 2023-10-15 15:14:06 -0400 (Sun, 15 Oct 2023) EndedAt: 2023-10-15 15:15:31 -0400 (Sun, 15 Oct 2023) EllapsedTime: 85.0 seconds RetCode: 0 Status: OK