Package: planttfhunter Version: 1.0.0 Command: /home/biocbuild/bbs-3.17-bioc/R/bin/R CMD build --keep-empty-dirs --no-resave-data planttfhunter StartedAt: 2023-10-15 17:58:45 -0400 (Sun, 15 Oct 2023) EndedAt: 2023-10-15 17:59:19 -0400 (Sun, 15 Oct 2023) EllapsedTime: 33.1 seconds RetCode: 0 Status: OK PackageFile: planttfhunter_1.0.0.tar.gz PackageFileSize: 991.5 KiB