Package: planttfhunter Version: 1.0.0 Command: /home/biocbuild/bbs-3.17-bioc/R/bin/R CMD check --install=check:planttfhunter.install-out.txt --library=/home/biocbuild/bbs-3.17-bioc/R/site-library --timings planttfhunter_1.0.0.tar.gz StartedAt: 2023-10-15 23:55:15 -0400 (Sun, 15 Oct 2023) EndedAt: 2023-10-15 23:58:01 -0400 (Sun, 15 Oct 2023) EllapsedTime: 166.3 seconds RetCode: 0 Status: OK CheckDir: planttfhunter.Rcheck Warnings: 0