Package: planttfhunter Version: 1.0.0 Command: /home/biocbuild/bbs-3.17-bioc/R/bin/R CMD INSTALL planttfhunter StartedAt: 2023-10-15 15:11:45 -0400 (Sun, 15 Oct 2023) EndedAt: 2023-10-15 15:12:07 -0400 (Sun, 15 Oct 2023) EllapsedTime: 21.5 seconds RetCode: 0 Status: OK