Package: plyranges Version: 1.20.0 Command: /Library/Frameworks/R.framework/Resources/bin/R CMD build --keep-empty-dirs --no-resave-data plyranges StartedAt: 2023-10-15 20:20:14 -0400 (Sun, 15 Oct 2023) EndedAt: 2023-10-15 20:22:35 -0400 (Sun, 15 Oct 2023) EllapsedTime: 140.7 seconds RetCode: 0 Status: OK PackageFile: plyranges_1.20.0.tar.gz PackageFileSize: 1.24 MiB