Package: powerTCR Version: 1.20.0 Command: /Library/Frameworks/R.framework/Resources/bin/R CMD INSTALL powerTCR StartedAt: 2023-10-15 15:09:55 -0400 (Sun, 15 Oct 2023) EndedAt: 2023-10-15 15:10:34 -0400 (Sun, 15 Oct 2023) EllapsedTime: 38.4 seconds RetCode: 0 Status: OK