Package: primirTSS Version: 1.18.0 Command: /home/biocbuild/bbs-3.17-bioc/R/bin/R CMD check --install=check:primirTSS.install-out.txt --library=/home/biocbuild/bbs-3.17-bioc/R/site-library --timings primirTSS_1.18.0.tar.gz StartedAt: 2023-10-15 23:59:39 -0400 (Sun, 15 Oct 2023) EndedAt: 2023-10-16 00:04:33 -0400 (Mon, 16 Oct 2023) EllapsedTime: 293.2 seconds RetCode: 0 Status: WARNINGS CheckDir: primirTSS.Rcheck Warnings: 1