Package: primirTSS Version: 1.18.0 Command: chmod a+r primirTSS -R && F:\biocbuild\bbs-3.17-bioc\R\bin\R.exe CMD build --keep-empty-dirs --no-resave-data primirTSS StartedAt: 2023-10-15 21:26:59 -0400 (Sun, 15 Oct 2023) EndedAt: 2023-10-15 21:28:29 -0400 (Sun, 15 Oct 2023) EllapsedTime: 90.9 seconds RetCode: 0 Status: OK PackageFile: primirTSS_1.18.0.tar.gz PackageFileSize: 3.662 MiB