Package: primirTSS Version: 1.18.0 Command: F:\biocbuild\bbs-3.17-bioc\R\bin\R.exe CMD check --no-multiarch --install=check:primirTSS.install-out.txt --library=F:\biocbuild\bbs-3.17-bioc\R\library --no-vignettes --timings primirTSS_1.18.0.tar.gz StartedAt: 2023-10-16 05:26:59 -0400 (Mon, 16 Oct 2023) EndedAt: 2023-10-16 05:31:21 -0400 (Mon, 16 Oct 2023) EllapsedTime: 261.7 seconds RetCode: 0 Status: WARNINGS CheckDir: primirTSS.Rcheck Warnings: 1