Package: proFIA Version: 1.26.0 Command: /Library/Frameworks/R.framework/Resources/bin/R CMD INSTALL proFIA StartedAt: 2023-10-15 16:17:00 -0400 (Sun, 15 Oct 2023) EndedAt: 2023-10-15 16:19:11 -0400 (Sun, 15 Oct 2023) EllapsedTime: 130.8 seconds RetCode: 0 Status: OK