git_url: https://git.bioconductor.org/packages/projectR git_branch: RELEASE_3_17 git_last_commit: e63ba29 git_last_commit_date: 2023-04-25 11:08:49 -0400 (Tue, 25 Apr 2023) Package: projectR Version: 1.16.0 Maintainer: Genevieve Stein-O'Brien MaintainerEmail: gsteinobrien at gmail.com