Package: projectR Version: 1.16.0 Command: /Library/Frameworks/R.framework/Resources/bin/R CMD build --keep-empty-dirs --no-resave-data projectR StartedAt: 2023-10-15 20:25:05 -0400 (Sun, 15 Oct 2023) EndedAt: 2023-10-15 20:27:09 -0400 (Sun, 15 Oct 2023) EllapsedTime: 124.7 seconds RetCode: 0 Status: OK PackageFile: projectR_1.16.0.tar.gz PackageFileSize: 884.9 KiB