Package: proteasy Version: 1.2.0 Command: /Library/Frameworks/R.framework/Resources/bin/R CMD build --keep-empty-dirs --no-resave-data proteasy StartedAt: 2023-10-15 20:25:39 -0400 (Sun, 15 Oct 2023) EndedAt: 2023-10-15 20:27:09 -0400 (Sun, 15 Oct 2023) EllapsedTime: 90.7 seconds RetCode: 0 Status: OK PackageFile: proteasy_1.2.0.tar.gz PackageFileSize: 2.706 MiB