Package: proteasy Version: 1.2.0 Command: /home/biocbuild/bbs-3.17-bioc/R/bin/R CMD build --keep-empty-dirs --no-resave-data proteasy StartedAt: 2023-10-15 18:01:58 -0400 (Sun, 15 Oct 2023) EndedAt: 2023-10-15 18:02:35 -0400 (Sun, 15 Oct 2023) EllapsedTime: 37.1 seconds RetCode: 0 Status: OK PackageFile: proteasy_1.2.0.tar.gz PackageFileSize: 2.688 MiB