Package: proteasy Version: 1.2.0 Command: /home/biocbuild/bbs-3.17-bioc/R/bin/R CMD check --install=check:proteasy.install-out.txt --library=/home/biocbuild/bbs-3.17-bioc/R/site-library --timings proteasy_1.2.0.tar.gz StartedAt: 2023-10-16 00:03:38 -0400 (Mon, 16 Oct 2023) EndedAt: 2023-10-16 00:04:10 -0400 (Mon, 16 Oct 2023) EllapsedTime: 32.0 seconds RetCode: 1 Status: ERROR CheckDir: proteasy.Rcheck Warnings: NA