Package: qcmetrics Version: 1.38.0 Command: /home/biocbuild/bbs-3.17-bioc/R/bin/R CMD build --keep-empty-dirs --no-resave-data qcmetrics StartedAt: 2023-10-15 18:03:27 -0400 (Sun, 15 Oct 2023) EndedAt: 2023-10-15 18:03:50 -0400 (Sun, 15 Oct 2023) EllapsedTime: 22.3 seconds RetCode: 0 Status: OK PackageFile: qcmetrics_1.38.0.tar.gz PackageFileSize: 4.216 MiB