Package: qsea Version: 1.26.0 Command: /Library/Frameworks/R.framework/Resources/bin/R CMD check --install=check:qsea.install-out.txt --library=/Library/Frameworks/R.framework/Resources/library --no-vignettes --timings qsea_1.26.0.tar.gz StartedAt: 2023-10-16 05:41:16 -0400 (Mon, 16 Oct 2023) EndedAt: 2023-10-16 05:51:39 -0400 (Mon, 16 Oct 2023) EllapsedTime: 623.0 seconds RetCode: 0 Status: OK CheckDir: qsea.Rcheck Warnings: 0