Package: qsea Version: 1.26.0 Command: chmod a+r qsea -R && F:\biocbuild\bbs-3.17-bioc\R\bin\R.exe CMD build --keep-empty-dirs --no-resave-data qsea StartedAt: 2023-10-15 21:33:05 -0400 (Sun, 15 Oct 2023) EndedAt: 2023-10-15 21:34:22 -0400 (Sun, 15 Oct 2023) EllapsedTime: 76.9 seconds RetCode: 0 Status: OK PackageFile: qsea_1.26.0.tar.gz PackageFileSize: 603.4 KiB