Package: qsmooth Version: 1.16.0 Command: /Library/Frameworks/R.framework/Resources/bin/R CMD check --install=check:qsmooth.install-out.txt --library=/Library/Frameworks/R.framework/Resources/library --no-vignettes --timings qsmooth_1.16.0.tar.gz StartedAt: 2023-10-16 05:41:28 -0400 (Mon, 16 Oct 2023) EndedAt: 2023-10-16 05:49:26 -0400 (Mon, 16 Oct 2023) EllapsedTime: 477.7 seconds RetCode: 0 Status: WARNINGS CheckDir: qsmooth.Rcheck Warnings: 1