Package: qsmooth Version: 1.16.0 Command: F:\biocbuild\bbs-3.17-bioc\R\bin\R.exe CMD INSTALL qsmooth StartedAt: 2023-10-15 16:42:44 -0400 (Sun, 15 Oct 2023) EndedAt: 2023-10-15 16:43:20 -0400 (Sun, 15 Oct 2023) EllapsedTime: 36.8 seconds RetCode: 0 Status: OK