Package: qusage Version: 2.34.0 Command: /Library/Frameworks/R.framework/Resources/bin/R CMD INSTALL qusage StartedAt: 2023-10-15 15:10:07 -0400 (Sun, 15 Oct 2023) EndedAt: 2023-10-15 15:10:44 -0400 (Sun, 15 Oct 2023) EllapsedTime: 37.1 seconds RetCode: 0 Status: OK