Package: qvalue Version: 2.32.0 Command: /home/biocbuild/bbs-3.17-bioc/R/bin/R CMD INSTALL qvalue StartedAt: 2023-10-15 15:15:20 -0400 (Sun, 15 Oct 2023) EndedAt: 2023-10-15 15:15:25 -0400 (Sun, 15 Oct 2023) EllapsedTime: 4.2 seconds RetCode: 0 Status: OK