Package: qvalue Version: 2.32.0 Command: rm -rf qvalue.buildbin-libdir && mkdir qvalue.buildbin-libdir && F:\biocbuild\bbs-3.17-bioc\R\bin\R.exe CMD INSTALL --build --library=qvalue.buildbin-libdir qvalue_2.32.0.tar.gz StartedAt: 2023-10-16 09:19:36 -0400 (Mon, 16 Oct 2023) EndedAt: 2023-10-16 09:19:47 -0400 (Mon, 16 Oct 2023) EllapsedTime: 10.9 seconds RetCode: 0 Status: OK PackageFile: qvalue_2.32.0.zip PackageFileSize: 2.679 MiB