Package: ramr Version: 1.8.0 Command: /home/biocbuild/bbs-3.17-bioc/R/bin/R CMD check --install=check:ramr.install-out.txt --library=/home/biocbuild/bbs-3.17-bioc/R/site-library --timings ramr_1.8.0.tar.gz StartedAt: 2023-10-16 00:12:37 -0400 (Mon, 16 Oct 2023) EndedAt: 2023-10-16 00:16:13 -0400 (Mon, 16 Oct 2023) EllapsedTime: 215.9 seconds RetCode: 0 Status: OK CheckDir: ramr.Rcheck Warnings: 0