Package: ramr Version: 1.8.0 Command: chmod a+r ramr -R && F:\biocbuild\bbs-3.17-bioc\R\bin\R.exe CMD build --keep-empty-dirs --no-resave-data ramr StartedAt: 2023-10-15 21:37:20 -0400 (Sun, 15 Oct 2023) EndedAt: 2023-10-15 21:39:11 -0400 (Sun, 15 Oct 2023) EllapsedTime: 110.7 seconds RetCode: 0 Status: OK PackageFile: ramr_1.8.0.tar.gz PackageFileSize: 2.167 MiB