Package: ramr Version: 1.8.0 Command: F:\biocbuild\bbs-3.17-bioc\R\bin\R.exe CMD INSTALL ramr StartedAt: 2023-10-15 16:34:30 -0400 (Sun, 15 Oct 2023) EndedAt: 2023-10-15 16:34:48 -0400 (Sun, 15 Oct 2023) EllapsedTime: 17.6 seconds RetCode: 0 Status: OK