Package: ramwas Version: 1.24.0 Command: /Library/Frameworks/R.framework/Resources/bin/R CMD check --install=check:ramwas.install-out.txt --library=/Library/Frameworks/R.framework/Resources/library --no-vignettes --timings ramwas_1.24.0.tar.gz StartedAt: 2023-10-16 05:47:57 -0400 (Mon, 16 Oct 2023) EndedAt: 2023-10-16 05:57:21 -0400 (Mon, 16 Oct 2023) EllapsedTime: 563.7 seconds RetCode: 0 Status: OK CheckDir: ramwas.Rcheck Warnings: 0