Package: ramwas Version: 1.24.0 Command: /Library/Frameworks/R.framework/Resources/bin/R CMD INSTALL ramwas StartedAt: 2023-10-15 15:58:35 -0400 (Sun, 15 Oct 2023) EndedAt: 2023-10-15 16:00:31 -0400 (Sun, 15 Oct 2023) EllapsedTime: 116.1 seconds RetCode: 0 Status: OK