Package: ramwas Version: 1.24.0 Command: /home/biocbuild/bbs-3.17-bioc/R/bin/R CMD build --keep-empty-dirs --no-resave-data ramwas StartedAt: 2023-10-15 18:05:50 -0400 (Sun, 15 Oct 2023) EndedAt: 2023-10-15 18:10:01 -0400 (Sun, 15 Oct 2023) EllapsedTime: 251.2 seconds RetCode: 0 Status: OK PackageFile: ramwas_1.24.0.tar.gz PackageFileSize: 3.06 MiB