Package: ramwas Version: 1.24.0 Command: /home/biocbuild/bbs-3.17-bioc/R/bin/R CMD INSTALL ramwas StartedAt: 2023-10-15 15:33:46 -0400 (Sun, 15 Oct 2023) EndedAt: 2023-10-15 15:34:21 -0400 (Sun, 15 Oct 2023) EllapsedTime: 35.1 seconds RetCode: 0 Status: OK