Package: ramwas Version: 1.24.0 Command: chmod a+r ramwas -R && F:\biocbuild\bbs-3.17-bioc\R\bin\R.exe CMD build --keep-empty-dirs --no-resave-data ramwas StartedAt: 2023-10-15 21:37:25 -0400 (Sun, 15 Oct 2023) EndedAt: 2023-10-15 21:42:00 -0400 (Sun, 15 Oct 2023) EllapsedTime: 275.0 seconds RetCode: 0 Status: OK PackageFile: ramwas_1.24.0.tar.gz PackageFileSize: 2.077 MiB