Package: ramwas Version: 1.24.0 Command: F:\biocbuild\bbs-3.17-bioc\R\bin\R.exe CMD check --no-multiarch --install=check:ramwas.install-out.txt --library=F:\biocbuild\bbs-3.17-bioc\R\library --no-vignettes --timings ramwas_1.24.0.tar.gz StartedAt: 2023-10-16 05:40:59 -0400 (Mon, 16 Oct 2023) EndedAt: 2023-10-16 05:44:58 -0400 (Mon, 16 Oct 2023) EllapsedTime: 239.3 seconds RetCode: 0 Status: OK CheckDir: ramwas.Rcheck Warnings: 0