Package: rcellminer Version: 2.22.0 Command: /Library/Frameworks/R.framework/Resources/bin/R CMD build --keep-empty-dirs --no-resave-data rcellminer StartedAt: 2023-10-15 20:33:38 -0400 (Sun, 15 Oct 2023) EndedAt: 2023-10-15 20:38:58 -0400 (Sun, 15 Oct 2023) EllapsedTime: 319.8 seconds RetCode: 0 Status: OK PackageFile: rcellminer_2.22.0.tar.gz PackageFileSize: 2.326 MiB