Package: rcellminer Version: 2.22.0 Command: /Library/Frameworks/R.framework/Resources/bin/R CMD check --install=check:rcellminer.install-out.txt --library=/Library/Frameworks/R.framework/Resources/library --no-vignettes --timings rcellminer_2.22.0.tar.gz StartedAt: 2023-10-16 05:51:27 -0400 (Mon, 16 Oct 2023) EndedAt: 2023-10-16 05:55:41 -0400 (Mon, 16 Oct 2023) EllapsedTime: 254.1 seconds RetCode: 0 Status: WARNINGS CheckDir: rcellminer.Rcheck Warnings: 1