Package: rcellminer Version: 2.22.0 Command: chmod a+r rcellminer -R && F:\biocbuild\bbs-3.17-bioc\R\bin\R.exe CMD build --keep-empty-dirs --no-resave-data rcellminer StartedAt: 2023-10-15 21:40:14 -0400 (Sun, 15 Oct 2023) EndedAt: 2023-10-15 21:42:36 -0400 (Sun, 15 Oct 2023) EllapsedTime: 142.1 seconds RetCode: 0 Status: OK PackageFile: rcellminer_2.22.0.tar.gz PackageFileSize: 706 KiB