Package: recoup Version: 1.28.0 Command: /Library/Frameworks/R.framework/Resources/bin/R CMD check --install=check:recoup.install-out.txt --library=/Library/Frameworks/R.framework/Resources/library --no-vignettes --timings recoup_1.28.0.tar.gz StartedAt: 2023-10-16 05:54:37 -0400 (Mon, 16 Oct 2023) EndedAt: 2023-10-16 06:10:46 -0400 (Mon, 16 Oct 2023) EllapsedTime: 969.0 seconds RetCode: 0 Status: OK CheckDir: recoup.Rcheck Warnings: 0