Package: regioneReloaded Version: 1.2.0 Command: /home/biocbuild/bbs-3.17-bioc/R/bin/R CMD check --install=check:regioneReloaded.install-out.txt --library=/home/biocbuild/bbs-3.17-bioc/R/site-library --timings regioneReloaded_1.2.0.tar.gz StartedAt: 2023-10-16 00:19:55 -0400 (Mon, 16 Oct 2023) EndedAt: 2023-10-16 00:26:57 -0400 (Mon, 16 Oct 2023) EllapsedTime: 422.2 seconds RetCode: 0 Status: OK CheckDir: regioneReloaded.Rcheck Warnings: 0