Package: regioneReloaded Version: 1.2.0 Command: rm -rf regioneReloaded.buildbin-libdir && mkdir regioneReloaded.buildbin-libdir && F:\biocbuild\bbs-3.17-bioc\R\bin\R.exe CMD INSTALL --build --library=regioneReloaded.buildbin-libdir regioneReloaded_1.2.0.tar.gz StartedAt: 2023-10-16 09:22:00 -0400 (Mon, 16 Oct 2023) EndedAt: 2023-10-16 09:22:45 -0400 (Mon, 16 Oct 2023) EllapsedTime: 45.4 seconds RetCode: 0 Status: OK PackageFile: regioneReloaded_1.2.0.zip PackageFileSize: 2.15 MiB