Package: rfPred Version: 1.38.0 Command: /Library/Frameworks/R.framework/Resources/bin/R CMD build --keep-empty-dirs --no-resave-data rfPred StartedAt: 2023-10-15 20:39:28 -0400 (Sun, 15 Oct 2023) EndedAt: 2023-10-15 20:40:16 -0400 (Sun, 15 Oct 2023) EllapsedTime: 48.0 seconds RetCode: 0 Status: OK PackageFile: rfPred_1.38.0.tar.gz PackageFileSize: 1.053 MiB