Package: rfPred Version: 1.38.0 Command: chmod a+r rfPred -R && F:\biocbuild\bbs-3.17-bioc\R\bin\R.exe CMD build --keep-empty-dirs --no-resave-data rfPred StartedAt: 2023-10-15 21:45:52 -0400 (Sun, 15 Oct 2023) EndedAt: 2023-10-15 21:46:15 -0400 (Sun, 15 Oct 2023) EllapsedTime: 23.3 seconds RetCode: 0 Status: OK PackageFile: rfPred_1.38.0.tar.gz PackageFileSize: 1.054 MiB