Package: rfaRm Version: 1.12.1 Command: chmod a+r rfaRm -R && F:\biocbuild\bbs-3.17-bioc\R\bin\R.exe CMD build --keep-empty-dirs --no-resave-data rfaRm StartedAt: 2023-10-15 21:45:49 -0400 (Sun, 15 Oct 2023) EndedAt: 2023-10-15 21:49:45 -0400 (Sun, 15 Oct 2023) EllapsedTime: 236.1 seconds RetCode: 1 Status: ERROR PackageFile: None PackageFileSize: NA