Package: rhdf5 Version: 2.44.0 Command: /home/biocbuild/bbs-3.17-bioc/R/bin/R CMD build --keep-empty-dirs --no-resave-data rhdf5 StartedAt: 2023-10-15 18:11:40 -0400 (Sun, 15 Oct 2023) EndedAt: 2023-10-15 18:24:23 -0400 (Sun, 15 Oct 2023) EllapsedTime: 762.7 seconds RetCode: 0 Status: OK PackageFile: rhdf5_2.44.0.tar.gz PackageFileSize: 1.21 MiB